BEGIN:VCALENDAR
VERSION:2.0
PRODID:-//Faithful Few Ministries - ECPv4.6.14.1//NONSGML v1.0//EN
CALSCALE:GREGORIAN
METHOD:PUBLISH
X-WR-CALNAME:Faithful Few Ministries
X-ORIGINAL-URL:https://faithfulfewministries.com
X-WR-CALDESC:Events for Faithful Few Ministries
BEGIN:VEVENT
DTSTART;TZID=UTC+0:20150502T070000
DTEND;TZID=UTC+0:20150502T170000
DTSTAMP:20260421T133843
CREATED:20150318T040849Z
LAST-MODIFIED:20150326T194608Z
UID:22708-1430550000-1430586000@faithfulfewministries.com
SUMMARY:The Glory 5k Run/Walk 2nd Annual - May 2nd\, 2015
DESCRIPTION:		\n							\n						\n				Sign Up Right Here!			\n			\n					\n	\n The Glory Run\n2nd Annual 5k Run/Walk\nBe a part of this\, come and run/walk with us & represent the Kingdom Of God out in the open field.\nIf you have any questions or want to sign up please contact us by filling out the form at the bottom of this page!   \n\n\n\n\n\n\n\n\n\n\nYour Name (required)\n      \nYour Email (required)\n      \nSubject\n      \nYour Message\n      \nTo use CAPTCHA\, you need Really Simple CAPTCHA plugin installed.   \n \n\n
URL:https://faithfulfewministries.com/event/the-glory-5k-runwalk-2nd-annual-may-2nd-2015/
LOCATION:Tropical Park
CATEGORIES:Conference
END:VEVENT
END:VCALENDAR